BEGIN:VCALENDAR
VERSION:2.0
PRODID:-//Mutual Capacitación - ECPv6.15.19//NONSGML v1.0//EN
CALSCALE:GREGORIAN
METHOD:PUBLISH
X-ORIGINAL-URL:https://mcap.cl
X-WR-CALDESC:Eventos para Mutual Capacitación
REFRESH-INTERVAL;VALUE=DURATION:PT1H
X-Robots-Tag:noindex
X-PUBLISHED-TTL:PT1H
BEGIN:VTIMEZONE
TZID:America/Santiago
BEGIN:STANDARD
TZOFFSETFROM:-0300
TZOFFSETTO:-0400
TZNAME:-04
DTSTART:20250406T030000
END:STANDARD
BEGIN:DAYLIGHT
TZOFFSETFROM:-0400
TZOFFSETTO:-0300
TZNAME:-03
DTSTART:20250907T040000
END:DAYLIGHT
BEGIN:STANDARD
TZOFFSETFROM:-0300
TZOFFSETTO:-0400
TZNAME:-04
DTSTART:20260405T030000
END:STANDARD
BEGIN:DAYLIGHT
TZOFFSETFROM:-0400
TZOFFSETTO:-0300
TZNAME:-03
DTSTART:20260906T040000
END:DAYLIGHT
BEGIN:STANDARD
TZOFFSETFROM:-0300
TZOFFSETTO:-0400
TZNAME:-04
DTSTART:20270404T030000
END:STANDARD
BEGIN:DAYLIGHT
TZOFFSETFROM:-0400
TZOFFSETTO:-0300
TZNAME:-03
DTSTART:20270905T040000
END:DAYLIGHT
END:VTIMEZONE
BEGIN:VEVENT
DTSTART;TZID=America/Santiago:20260427T090000
DTEND;TZID=America/Santiago:20260429T180000
DTSTAMP:20260425T150556
CREATED:20260207T163914Z
LAST-MODIFIED:20260305T202712Z
UID:10000749-1777280400-1777485600@mcap.cl
SUMMARY:PRN CONCEPCIÓN 27 Y 29 DE ABRIL
DESCRIPTION:
URL:https://mcap.cl/evento/prn-concepcion-27-y-29-de-abril/
LOCATION:Concepción
CATEGORIES:PRN
ATTACH;FMTTYPE=image/png:https://mcap.cl/wp-content/uploads/2026/01/prn.png
END:VEVENT
BEGIN:VEVENT
DTSTART;TZID=America/Santiago:20260525T080000
DTEND;TZID=America/Santiago:20260527T170000
DTSTAMP:20260425T150556
CREATED:20260319T112117Z
LAST-MODIFIED:20260401T121157Z
UID:10000759-1779696000-1779901200@mcap.cl
SUMMARY:PRN SANTIAGO 25 Y 27 DE MAYO
DESCRIPTION:
URL:https://mcap.cl/evento/prn-santiago-25-y-27-de-mayo/
LOCATION:Santiago
CATEGORIES:PRN
ATTACH;FMTTYPE=image/png:https://mcap.cl/wp-content/uploads/2026/01/salud-38.png
END:VEVENT
BEGIN:VEVENT
DTSTART;TZID=America/Santiago:20260615T080000
DTEND;TZID=America/Santiago:20260616T170000
DTSTAMP:20260425T150556
CREATED:20260319T133850Z
LAST-MODIFIED:20260319T133850Z
UID:10000770-1781510400-1781629200@mcap.cl
SUMMARY:PRN TEMUCO 15 Y 16 DE JUNIO
DESCRIPTION:
URL:https://mcap.cl/evento/prn-temuco-15-y-16-de-junio/
LOCATION:Temuco
CATEGORIES:PRN
ATTACH;FMTTYPE=image/png:https://mcap.cl/wp-content/uploads/2026/01/salud-38.png
END:VEVENT
BEGIN:VEVENT
DTSTART;TZID=America/Santiago:20260622T080000
DTEND;TZID=America/Santiago:20260624T170000
DTSTAMP:20260425T150556
CREATED:20260319T134052Z
LAST-MODIFIED:20260423T193630Z
UID:10000771-1782115200-1782320400@mcap.cl
SUMMARY:PRN SANTIAGO 22 Y 24 DE JUNIO
DESCRIPTION:
URL:https://mcap.cl/evento/prn-santiago-22-y-24-de-junio/
LOCATION:Santiago
CATEGORIES:PRN
ATTACH;FMTTYPE=image/png:https://mcap.cl/wp-content/uploads/2026/01/salud-38.png
END:VEVENT
END:VCALENDAR