BEGIN:VCALENDAR
VERSION:2.0
PRODID:-//Mutual Capacitación - ECPv6.15.19//NONSGML v1.0//EN
CALSCALE:GREGORIAN
METHOD:PUBLISH
X-WR-CALNAME:Mutual Capacitación
X-ORIGINAL-URL:https://mcap.cl
X-WR-CALDESC:Eventos para Mutual Capacitación
REFRESH-INTERVAL;VALUE=DURATION:PT1H
X-Robots-Tag:noindex
X-PUBLISHED-TTL:PT1H
BEGIN:VTIMEZONE
TZID:America/Santiago
BEGIN:STANDARD
TZOFFSETFROM:-0300
TZOFFSETTO:-0400
TZNAME:-04
DTSTART:20250406T030000
END:STANDARD
BEGIN:DAYLIGHT
TZOFFSETFROM:-0400
TZOFFSETTO:-0300
TZNAME:-03
DTSTART:20250907T040000
END:DAYLIGHT
BEGIN:STANDARD
TZOFFSETFROM:-0300
TZOFFSETTO:-0400
TZNAME:-04
DTSTART:20260405T030000
END:STANDARD
BEGIN:DAYLIGHT
TZOFFSETFROM:-0400
TZOFFSETTO:-0300
TZNAME:-03
DTSTART:20260906T040000
END:DAYLIGHT
BEGIN:STANDARD
TZOFFSETFROM:-0300
TZOFFSETTO:-0400
TZNAME:-04
DTSTART:20270404T030000
END:STANDARD
BEGIN:DAYLIGHT
TZOFFSETFROM:-0400
TZOFFSETTO:-0300
TZNAME:-03
DTSTART:20270905T040000
END:DAYLIGHT
END:VTIMEZONE
BEGIN:VEVENT
DTSTART;TZID=America/Santiago:20260421T100000
DTEND;TZID=America/Santiago:20260421T120000
DTSTAMP:20260425T113623
CREATED:20260402T135932Z
LAST-MODIFIED:20260402T135932Z
UID:10000782-1776765600-1776772800@mcap.cl
SUMMARY:MASCOTAS SANTIAGO 21 DE ABRIL
DESCRIPTION:
URL:https://mcap.cl/evento/mascotas-santiago-21-de-abril/
LOCATION:Santiago
CATEGORIES:MASCOTAS
ATTACH;FMTTYPE=image/png:https://mcap.cl/wp-content/uploads/2026/04/banner_cursos_3-35.png
END:VEVENT
BEGIN:VEVENT
DTSTART;TZID=America/Santiago:20260420T090000
DTEND;TZID=America/Santiago:20260421T180000
DTSTAMP:20260425T113623
CREATED:20260330T160750Z
LAST-MODIFIED:20260417T160854Z
UID:10000775-1776675600-1776794400@mcap.cl
SUMMARY:ACLS LA SERENA 20 Y 21 DE ABRIL
DESCRIPTION:
URL:https://mcap.cl/evento/acls-la-serena-20-y-21-de-abril/
LOCATION:La Serena
CATEGORIES:ACLS
ATTACH;FMTTYPE=image/png:https://mcap.cl/wp-content/uploads/2025/12/salud-39.png
END:VEVENT
BEGIN:VEVENT
DTSTART;TZID=America/Santiago:20260420T080000
DTEND;TZID=America/Santiago:20260421T170000
DTSTAMP:20260425T113623
CREATED:20260207T162703Z
LAST-MODIFIED:20260207T162703Z
UID:10000742-1776672000-1776790800@mcap.cl
SUMMARY:ACLS CONCEPCIÓN 20 Y 21 DE ABRIL
DESCRIPTION:
URL:https://mcap.cl/evento/acls-concepcion-20-y-21-de-abril/
LOCATION:Concepción
CATEGORIES:ACLS
ATTACH;FMTTYPE=image/png:https://mcap.cl/wp-content/uploads/2025/12/banner_salud_2-13-scaled.png
END:VEVENT
BEGIN:VEVENT
DTSTART;TZID=America/Santiago:20260420T080000
DTEND;TZID=America/Santiago:20260421T170000
DTSTAMP:20260425T113623
CREATED:20260207T162128Z
LAST-MODIFIED:20260414T140412Z
UID:10000738-1776672000-1776790800@mcap.cl
SUMMARY:ACLS SANTIAGO 20 Y 21 DE ABRIL
DESCRIPTION:
URL:https://mcap.cl/evento/acls-santiago-20-y-21-de-abril/
LOCATION:Santiago
CATEGORIES:ACLS
ATTACH;FMTTYPE=image/png:https://mcap.cl/wp-content/uploads/2025/12/banner_salud_2-13-scaled.png
END:VEVENT
BEGIN:VEVENT
DTSTART;TZID=America/Santiago:20260417T090000
DTEND;TZID=America/Santiago:20260417T130000
DTSTAMP:20260425T113623
CREATED:20260207T163521Z
LAST-MODIFIED:20260310T223734Z
UID:10000747-1776416400-1776430800@mcap.cl
SUMMARY:BLS SANTIAGO 17 DE ABRIL
DESCRIPTION:
URL:https://mcap.cl/evento/bls-santiago-17-de-abril/
LOCATION:Santiago
CATEGORIES:BLS
ATTACH;FMTTYPE=image/png:https://mcap.cl/wp-content/uploads/2025/12/banner_salud_2-14-scaled.png
END:VEVENT
BEGIN:VEVENT
DTSTART;TZID=America/Santiago:20260417T090000
DTEND;TZID=America/Santiago:20260417T120000
DTSTAMP:20260425T113623
CREATED:20260402T155009Z
LAST-MODIFIED:20260402T155009Z
UID:10000792-1776416400-1776427200@mcap.cl
SUMMARY:RCP Y DEA SANTIAGO 17 DE ABRIL
DESCRIPTION:
URL:https://mcap.cl/evento/rcp-y-dea-santiago-17-de-abril/
LOCATION:Santiago
CATEGORIES:RCP Y DEA
ATTACH;FMTTYPE=image/png:https://mcap.cl/wp-content/uploads/2026/04/crp-y-dea.png
END:VEVENT
BEGIN:VEVENT
DTSTART;TZID=America/Santiago:20260415T090000
DTEND;TZID=America/Santiago:20260417T180000
DTSTAMP:20260425T113623
CREATED:20260207T163758Z
LAST-MODIFIED:20260305T202922Z
UID:10000748-1776243600-1776448800@mcap.cl
SUMMARY:PRN SANTIAGO 15 Y 17 DE ABRIL
DESCRIPTION:
URL:https://mcap.cl/evento/prn-santiago-15-y-17-de-abril/
LOCATION:Santiago
CATEGORIES:PRN
ATTACH;FMTTYPE=image/png:https://mcap.cl/wp-content/uploads/2026/01/prn.png
END:VEVENT
BEGIN:VEVENT
DTSTART;TZID=America/Santiago:20260415T090000
DTEND;TZID=America/Santiago:20260415T130000
DTSTAMP:20260425T113623
CREATED:20260402T122326Z
LAST-MODIFIED:20260402T122326Z
UID:10000776-1776243600-1776258000@mcap.cl
SUMMARY:LIDERAZGO SANTIAGO 15 DE ABRIL
DESCRIPTION:
URL:https://mcap.cl/evento/liderazgo-santiago-15-de-abril/
LOCATION:Santiago
CATEGORIES:LIDERAZGO
ATTACH;FMTTYPE=image/png:https://mcap.cl/wp-content/uploads/2026/04/banner_cursos_3-36.png
END:VEVENT
BEGIN:VEVENT
DTSTART;TZID=America/Santiago:20260414T100000
DTEND;TZID=America/Santiago:20260414T120000
DTSTAMP:20260425T113623
CREATED:20260402T135750Z
LAST-MODIFIED:20260402T135750Z
UID:10000781-1776160800-1776168000@mcap.cl
SUMMARY:MASCOTAS SANTIAGO 14 DE ABRIL
DESCRIPTION:
URL:https://mcap.cl/evento/mascotas-santiago-14-de-abril/
LOCATION:Santiago
CATEGORIES:MASCOTAS
ATTACH;FMTTYPE=image/png:https://mcap.cl/wp-content/uploads/2026/04/banner_cursos_3-35.png
END:VEVENT
BEGIN:VEVENT
DTSTART;TZID=America/Santiago:20260413T080000
DTEND;TZID=America/Santiago:20260414T170000
DTSTAMP:20260425T113623
CREATED:20260207T163300Z
LAST-MODIFIED:20260207T163307Z
UID:10000746-1776067200-1776186000@mcap.cl
SUMMARY:PALS CONCEPCIÓN 13 Y 14 DE ABRIL
DESCRIPTION:
URL:https://mcap.cl/evento/pals-concepcion-13-y-14-de-abril/
LOCATION:Concepción
CATEGORIES:PALS
ATTACH;FMTTYPE=image/png:https://mcap.cl/wp-content/uploads/2025/12/banner_salud-15-scaled.png
END:VEVENT
BEGIN:VEVENT
DTSTART;TZID=America/Santiago:20260413T080000
DTEND;TZID=America/Santiago:20260414T170000
DTSTAMP:20260425T113623
CREATED:20260207T163144Z
LAST-MODIFIED:20260207T163144Z
UID:10000745-1776067200-1776186000@mcap.cl
SUMMARY:PALS SANTIAGO 13 Y 14 DE ABRIL
DESCRIPTION:
URL:https://mcap.cl/evento/pals-santiago-13-y-14-de-abril/
LOCATION:Santiago
CATEGORIES:PALS
ATTACH;FMTTYPE=image/png:https://mcap.cl/wp-content/uploads/2025/12/banner_salud-15-scaled.png
END:VEVENT
BEGIN:VEVENT
DTSTART;TZID=America/Santiago:20260410T080000
DTEND;TZID=America/Santiago:20260411T170000
DTSTAMP:20260425T113623
CREATED:20260207T162825Z
LAST-MODIFIED:20260327T161503Z
UID:10000743-1775808000-1775926800@mcap.cl
SUMMARY:ACLS TALCA 10 Y 11 DE ABRIL
DESCRIPTION:
URL:https://mcap.cl/evento/acls-talca-10-y-11-de-abril/
LOCATION:Talca
CATEGORIES:ACLS
ATTACH;FMTTYPE=image/png:https://mcap.cl/wp-content/uploads/2025/12/banner_salud_2-13-scaled.png
END:VEVENT
BEGIN:VEVENT
DTSTART;TZID=America/Santiago:20260410T080000
DTEND;TZID=America/Santiago:20260411T170000
DTSTAMP:20260425T113623
CREATED:20260207T162533Z
LAST-MODIFIED:20260207T162533Z
UID:10000741-1775808000-1775926800@mcap.cl
SUMMARY:ACLS PUERTO MONTT 10 Y 11 DE ABRIL
DESCRIPTION:
URL:https://mcap.cl/evento/acls-puerto-montt-10-y-11-de-abril/
LOCATION:Puerto Montt
CATEGORIES:ACLS
ATTACH;FMTTYPE=image/png:https://mcap.cl/wp-content/uploads/2025/12/banner_salud_2-13-scaled.png
END:VEVENT
BEGIN:VEVENT
DTSTART;TZID=America/Santiago:20260406T090000
DTEND;TZID=America/Santiago:20260406T120000
DTSTAMP:20260425T113623
CREATED:20260402T154857Z
LAST-MODIFIED:20260402T154857Z
UID:10000791-1775466000-1775476800@mcap.cl
SUMMARY:RCP Y DEA SANTIAGO 6 DE ABRIL
DESCRIPTION:
URL:https://mcap.cl/evento/rcp-y-dea-santiago-6-de-abril/
LOCATION:Santiago
CATEGORIES:RCP Y DEA
ATTACH;FMTTYPE=image/png:https://mcap.cl/wp-content/uploads/2026/04/crp-y-dea.png
END:VEVENT
BEGIN:VEVENT
DTSTART;TZID=America/Santiago:20260406T080000
DTEND;TZID=America/Santiago:20260407T170000
DTSTAMP:20260425T113623
CREATED:20260207T163020Z
LAST-MODIFIED:20260207T163020Z
UID:10000744-1775462400-1775581200@mcap.cl
SUMMARY:ACLS SANTIAGO 6 Y 7 DE ABRIL
DESCRIPTION:
URL:https://mcap.cl/evento/acls-santiago-6-y-7-de-abril/
LOCATION:Santiago
CATEGORIES:ACLS
ATTACH;FMTTYPE=image/png:https://mcap.cl/wp-content/uploads/2025/12/banner_salud_2-13-scaled.png
END:VEVENT
BEGIN:VEVENT
DTSTART;TZID=America/Santiago:20260406T080000
DTEND;TZID=America/Santiago:20260407T170000
DTSTAMP:20260425T113623
CREATED:20260207T162405Z
LAST-MODIFIED:20260207T162405Z
UID:10000740-1775462400-1775581200@mcap.cl
SUMMARY:ACLS ANTOFAGASTA 6 Y 7 DE ABRIL
DESCRIPTION:
URL:https://mcap.cl/evento/acls-antofagasta-6-y-7-de-abril/
LOCATION:Antofagasta
CATEGORIES:ACLS
ATTACH;FMTTYPE=image/png:https://mcap.cl/wp-content/uploads/2025/12/banner_salud_2-13-scaled.png
END:VEVENT
BEGIN:VEVENT
DTSTART;TZID=America/Santiago:20260406T080000
DTEND;TZID=America/Santiago:20260407T170000
DTSTAMP:20260425T113623
CREATED:20260207T162246Z
LAST-MODIFIED:20260207T162246Z
UID:10000739-1775462400-1775581200@mcap.cl
SUMMARY:ACLS CONCEPCIÓN 6 Y 7 DE ABRIL
DESCRIPTION:
URL:https://mcap.cl/evento/acls-concepcion-6-y-7-de-abril/
LOCATION:Concepción
CATEGORIES:ACLS
ATTACH;FMTTYPE=image/png:https://mcap.cl/wp-content/uploads/2025/12/banner_salud_2-13-scaled.png
END:VEVENT
BEGIN:VEVENT
DTSTART;TZID=America/Santiago:20260320T080000
DTEND;TZID=America/Santiago:20260321T170000
DTSTAMP:20260425T113623
CREATED:20251231T140741Z
LAST-MODIFIED:20251231T140741Z
UID:10000727-1773993600-1774112400@mcap.cl
SUMMARY:ACLS CHILLÁN 20 Y 21 DE MARZO
DESCRIPTION:
URL:https://mcap.cl/evento/acls-chillan-20-y-21-de-marzo/
LOCATION:Chillan
CATEGORIES:ACLS
ATTACH;FMTTYPE=image/png:https://mcap.cl/wp-content/uploads/2025/12/banner_salud-13-scaled.png
END:VEVENT
BEGIN:VEVENT
DTSTART;TZID=America/Santiago:20260320T080000
DTEND;TZID=America/Santiago:20260321T170000
DTSTAMP:20260425T113623
CREATED:20251231T140623Z
LAST-MODIFIED:20260223T144047Z
UID:10000726-1773993600-1774112400@mcap.cl
SUMMARY:ACLS IQUIQUE 20 Y 21 DE MARZO
DESCRIPTION:
URL:https://mcap.cl/evento/acls-iquique-20-y-21-de-marzo/
LOCATION:Iquique
CATEGORIES:ACLS
ATTACH;FMTTYPE=image/png:https://mcap.cl/wp-content/uploads/2025/12/banner_salud-13-scaled.png
END:VEVENT
BEGIN:VEVENT
DTSTART;TZID=America/Santiago:20260320T080000
DTEND;TZID=America/Santiago:20260321T170000
DTSTAMP:20260425T113623
CREATED:20251231T140457Z
LAST-MODIFIED:20260223T144332Z
UID:10000725-1773993600-1774112400@mcap.cl
SUMMARY:ACLS LA SERENA 20 Y 21 DE MARZO
DESCRIPTION:
URL:https://mcap.cl/evento/acls-la-serena-20-y-21-de-marzo/
LOCATION:La Serena
CATEGORIES:ACLS
ATTACH;FMTTYPE=image/png:https://mcap.cl/wp-content/uploads/2025/12/banner_salud-13-scaled.png
END:VEVENT
BEGIN:VEVENT
DTSTART;TZID=America/Santiago:20260320T080000
DTEND;TZID=America/Santiago:20260321T170000
DTSTAMP:20260425T113623
CREATED:20251231T135832Z
LAST-MODIFIED:20260304T115550Z
UID:10000724-1773993600-1774112400@mcap.cl
SUMMARY:ACLS TEMUCO 20 Y 21 DE MARZO
DESCRIPTION:
URL:https://mcap.cl/evento/acls-temuco-20-y-21-de-marzo/
LOCATION:Temuco
CATEGORIES:ACLS
ATTACH;FMTTYPE=image/png:https://mcap.cl/wp-content/uploads/2025/12/banner_salud_2-13-scaled.png
END:VEVENT
BEGIN:VEVENT
DTSTART;TZID=America/Santiago:20260316T090000
DTEND;TZID=America/Santiago:20260317T180000
DTSTAMP:20260425T113623
CREATED:20251231T134629Z
LAST-MODIFIED:20260305T195526Z
UID:10000722-1773651600-1773770400@mcap.cl
SUMMARY:PALS TEMUCO 16 Y 17 DE MARZO
DESCRIPTION:
URL:https://mcap.cl/evento/pals-temuco-16-y-17-de-marzo/
LOCATION:Temuco
CATEGORIES:PALS
ATTACH;FMTTYPE=image/png:https://mcap.cl/wp-content/uploads/2025/12/banner_salud-15-scaled.png
END:VEVENT
BEGIN:VEVENT
DTSTART;TZID=America/Santiago:20260316T080000
DTEND;TZID=America/Santiago:20260317T170000
DTSTAMP:20260425T113623
CREATED:20251231T135714Z
LAST-MODIFIED:20251231T135714Z
UID:10000723-1773648000-1773766800@mcap.cl
SUMMARY:PALS SANTIAGO 16 Y 17 DE MARZO
DESCRIPTION:
URL:https://mcap.cl/evento/pals-santiago-16-y-17-de-marzo/
LOCATION:Santiago
CATEGORIES:PALS
ATTACH;FMTTYPE=image/png:https://mcap.cl/wp-content/uploads/2025/12/banner_salud-15-scaled.png
END:VEVENT
BEGIN:VEVENT
DTSTART;TZID=America/Santiago:20260309T080000
DTEND;TZID=America/Santiago:20260310T170000
DTSTAMP:20260425T113623
CREATED:20260128T151733Z
LAST-MODIFIED:20260129T202354Z
UID:10000737-1773043200-1773162000@mcap.cl
SUMMARY:PRN SANTIAGO 9 Y 10 MARZO
DESCRIPTION:
URL:https://mcap.cl/evento/prn-santiago-9-y-10-marzo/
LOCATION:Santiago
CATEGORIES:PRN
ATTACH;FMTTYPE=image/png:https://mcap.cl/wp-content/uploads/2026/01/prn.png
END:VEVENT
BEGIN:VEVENT
DTSTART;TZID=America/Santiago:20260309T080000
DTEND;TZID=America/Santiago:20260310T170000
DTSTAMP:20260425T113623
CREATED:20251231T134436Z
LAST-MODIFIED:20260223T144612Z
UID:10000721-1773043200-1773162000@mcap.cl
SUMMARY:ACLS VALDIVIA 9 Y 10 DE MARZO
DESCRIPTION:
URL:https://mcap.cl/evento/acls-valdivia-9-y-10-de-marzo/
LOCATION:Valdivia
CATEGORIES:ACLS
ATTACH;FMTTYPE=image/png:https://mcap.cl/wp-content/uploads/2025/12/banner_salud-13-scaled.png
END:VEVENT
BEGIN:VEVENT
DTSTART;TZID=America/Santiago:20260309T080000
DTEND;TZID=America/Santiago:20260310T170000
DTSTAMP:20260425T113623
CREATED:20251231T134300Z
LAST-MODIFIED:20260223T144652Z
UID:10000720-1773043200-1773162000@mcap.cl
SUMMARY:ACLS CONCEPCIÓN 9 Y 10 DE MARZO
DESCRIPTION:
URL:https://mcap.cl/evento/acls-concepcion-9-y-10-de-marzo/
LOCATION:Concepción
CATEGORIES:ACLS
ATTACH;FMTTYPE=image/png:https://mcap.cl/wp-content/uploads/2025/12/banner_salud-13-scaled.png
END:VEVENT
BEGIN:VEVENT
DTSTART;TZID=America/Santiago:20260309T080000
DTEND;TZID=America/Santiago:20260310T170000
DTSTAMP:20260425T113623
CREATED:20251231T133848Z
LAST-MODIFIED:20260223T144824Z
UID:10000719-1773043200-1773162000@mcap.cl
SUMMARY:ACLS SANTIAGO 9 Y 10 DE MARZO
DESCRIPTION:
URL:https://mcap.cl/evento/acls-santiago-9-y-10-de-marzo/
LOCATION:Santiago
CATEGORIES:ACLS
ATTACH;FMTTYPE=image/png:https://mcap.cl/wp-content/uploads/2025/12/banner_salud-13-scaled.png
END:VEVENT
BEGIN:VEVENT
DTSTART;TZID=America/Santiago:20260220T080000
DTEND;TZID=America/Santiago:20260221T170000
DTSTAMP:20260425T113623
CREATED:20251231T141721Z
LAST-MODIFIED:20260129T152555Z
UID:10000732-1771574400-1771693200@mcap.cl
SUMMARY:ACLS TEMUCO 20 Y 21 DE FEBRERO
DESCRIPTION:
URL:https://mcap.cl/evento/acls-temuco-20-y-21-de-febrero/
LOCATION:Temuco
CATEGORIES:ACLS
ATTACH;FMTTYPE=image/png:https://mcap.cl/wp-content/uploads/2025/12/banner_salud-13-scaled.png
END:VEVENT
BEGIN:VEVENT
DTSTART;TZID=America/Santiago:20260220T080000
DTEND;TZID=America/Santiago:20260221T170000
DTSTAMP:20260425T113623
CREATED:20251231T141556Z
LAST-MODIFIED:20260129T152420Z
UID:10000731-1771574400-1771693200@mcap.cl
SUMMARY:ACLS ARICA 20 Y 21 DE FEBRERO
DESCRIPTION:
URL:https://mcap.cl/evento/acls-arica-20-y-21-de-febrero/
LOCATION:Arica\, Arica\, Chile
CATEGORIES:ACLS
ATTACH;FMTTYPE=image/png:https://mcap.cl/wp-content/uploads/2025/12/banner_salud-13-scaled.png
END:VEVENT
BEGIN:VEVENT
DTSTART;TZID=America/Santiago:20260213T080000
DTEND;TZID=America/Santiago:20260213T170000
DTSTAMP:20260425T113623
CREATED:20251231T141402Z
LAST-MODIFIED:20251231T141402Z
UID:10000730-1770969600-1771002000@mcap.cl
SUMMARY:BLS SANTIAGO 13 DE FEBRERO
DESCRIPTION:
URL:https://mcap.cl/evento/bls-santiago-13-de-febrero/
LOCATION:Santiago
CATEGORIES:BLS
ATTACH;FMTTYPE=image/png:https://mcap.cl/wp-content/uploads/2025/12/banner_salud-14-scaled.png
END:VEVENT
END:VCALENDAR